BEGIN:VCALENDAR
VERSION:2.0
PRODID:EVENTFROG//EVENT//ICAL
BEGIN:VEVENT
UID:20260424T072439Z-7452311226925714459@eventfrog.at
DTSTAMP:20260424T072439Z
DTSTART:20260517T123000Z
DTEND:20260517T133000Z
SUMMARY:SONNTAGSATELIER «PUZZLEDRUCK»
DESCRIPTION:Aus selbstgemalten Tier-, Mensch- oder Fantasiefiguren individuelle Druckstempel erstellen\n\nhttps://eventfrog.at/de/p/kunst-ausstellungen/weitere-kunstveranstaltungen/sonntagsatelier-puzzledruck-7452311226925714459.html
LOCATION:Forum Würth Arlesheim
GEO:47.497009;7.607158
URL:https://eventfrog.at/de/p/kunst-ausstellungen/weitere-kunstveranstaltungen/sonntagsatelier-puzzledruck-7452311226925714459.html
END:VEVENT
END:VCALENDAR