BEGIN:VCALENDAR
VERSION:2.0
PRODID:EVENTFROG//EVENT//ICAL
BEGIN:VEVENT
UID:20260424T072459Z-7452309685678433677@eventfrog.at
DTSTAMP:20260424T072459Z
DTSTART:20260531T090000Z
DTEND:20260531T140000Z
SUMMARY:Ecstatic Lakedance
DESCRIPTION:Ecstatic Dance am Urnersee: Tanze barfuß und intuitiv in Verbindung mit Musik und Natur. Freier Tanz, achtsamer Raum, magischer Tag am See. \n\nhttps://eventfrog.at/de/p/gesundheit-spiritualitaet/gesundheit-wohlbefinden/ecstatic-lakedance-7452309685678433677.html
LOCATION:Beachhouse Isleten
GEO:46.917757;8.595315
URL:https://eventfrog.at/de/p/gesundheit-spiritualitaet/gesundheit-wohlbefinden/ecstatic-lakedance-7452309685678433677.html
END:VEVENT
END:VCALENDAR