BEGIN:VCALENDAR
VERSION:2.0
PRODID:EVENTFROG//EVENT//ICAL
BEGIN:VEVENT
UID:20260424T054531Z-7452305808950304565@eventfrog.at
DTSTAMP:20260424T054531Z
DTSTART:20260531T140000Z
DTEND:20260531T190000Z
SUMMARY:Vollmond-Schwitzhütte: Magie des Blue Moon
DESCRIPTION:Am 26. Mai 2026 lädt die Schwitzhütte in der Stadtoase Zürich mit Trommeln und Gesang zur inneren Einkehr und Erdung ein.\n\nhttps://eventfrog.at/de/p/gesundheit-spiritualitaet/spiritualitaet/vollmond-schwitzhuette-magie-des-blue-moon-7452305808950304565.html
LOCATION:Die Stadtoase
GEO:47.377572;8.569727
URL:https://eventfrog.at/de/p/gesundheit-spiritualitaet/spiritualitaet/vollmond-schwitzhuette-magie-des-blue-moon-7452305808950304565.html
END:VEVENT
END:VCALENDAR