BEGIN:VCALENDAR
VERSION:2.0
PRODID:EVENTFROG//EVENT//ICAL
BEGIN:VEVENT
UID:20260424T192312Z-7452305751257709710@eventfrog.at
DTSTAMP:20260424T192312Z
DTSTART:20261217T163000Z
DTEND:20261217T173000Z
SUMMARY:Öffentliche Museumsführung
DESCRIPTION:Bereichern Sie Ihren Museumsbesuch mit einer faszinierenden Führung und entdecken Sie spannende Hintergründe.\n\n\n\nhttps://eventfrog.at/de/p/freizeit-ausfluege/ausflug/oeffentliche-museumsfuehrung-7452305751257709710.html
LOCATION:Museum Der Kleine Prinz und seine Welt
GEO:47.206886;7.538773
URL:https://eventfrog.at/de/p/freizeit-ausfluege/ausflug/oeffentliche-museumsfuehrung-7452305751257709710.html
END:VEVENT
END:VCALENDAR