BEGIN:VCALENDAR
VERSION:2.0
PRODID:EVENTFROG//EVENT//ICAL
BEGIN:VEVENT
UID:20260424T090219Z-7452304642065611656@eventfrog.at
DTSTAMP:20260424T090219Z
DTSTART:20260829T170000Z
DTEND:20260829T193000Z
SUMMARY:Hard Land - Das grosse Rämibühl-Musical
DESCRIPTION:Musical Hard Land - Nach dem Erfolgsroman von Benedict Wells\n\nhttps://eventfrog.at/de/p/musicals-shows/musical/hard-land-das-grosse-raemibuehl-musical-7452304642065611656.html
LOCATION:Aula Rämibühl
GEO:47.371613;8.553032
URL:https://eventfrog.at/de/p/musicals-shows/musical/hard-land-das-grosse-raemibuehl-musical-7452304642065611656.html
END:VEVENT
END:VCALENDAR