BEGIN:VCALENDAR
VERSION:2.0
PRODID:EVENTFROG//EVENT//ICAL
BEGIN:VEVENT
UID:20260422T192631Z-7452301213909941336@eventfrog.at
DTSTAMP:20260422T192631Z
DTSTART:20260517T120000Z
DTEND:20260517T150000Z
SUMMARY:one day choir Freiburg
DESCRIPTION:Ein Tag, ein Song und ein einzigartiger Chor. Singe mit uns den Song: "Man I Need" von Olivia Dean\nweitere Infos unter: onedaychoirfreiburg.onepage.me\n\nhttps://eventfrog.at/de/p/kurse-seminare/musik-tanz/one-day-choir-freiburg-7452301213909941336.html
LOCATION:Aula in der Gertrud Luckner Gewerbeschule
GEO:47.988996;7.845881
URL:https://eventfrog.at/de/p/kurse-seminare/musik-tanz/one-day-choir-freiburg-7452301213909941336.html
END:VEVENT
END:VCALENDAR