BEGIN:VCALENDAR
VERSION:2.0
PRODID:EVENTFROG//EVENT//ICAL
BEGIN:VEVENT
UID:20260424T095853Z-7452289192741048698@eventfrog.at
DTSTAMP:20260424T095853Z
DTSTART:20260522T180000Z
DTEND:20260522T200000Z
SUMMARY:Live - Jane in Flames (solo) & Max Grün (solo)
DESCRIPTION:Ein Singer Songwriter Abend\n\nhttps://eventfrog.at/de/p/konzerte/folk/live-jane-in-flames-solo-max-gruen-solo-7452289192741048698.html
LOCATION:Lukas Bar
GEO:47.420128;9.378870
URL:https://eventfrog.at/de/p/konzerte/folk/live-jane-in-flames-solo-max-gruen-solo-7452289192741048698.html
END:VEVENT
END:VCALENDAR