BEGIN:VCALENDAR
VERSION:2.0
PRODID:EVENTFROG//EVENT//ICAL
BEGIN:VEVENT
UID:20260424T083130Z-7452288520972934231@eventfrog.at
DTSTAMP:20260424T083130Z
DTSTART:20261031T170000Z
DTEND:20261031T233000Z
SUMMARY:10. Gourmet Oktoberfest
DESCRIPTION:Erlebe ein einzigartiges Oktoberfest mit exquisiten Kreationen, bester Livemusik und herzlicher Gastfreundschaft\n\n\nhttps://eventfrog.at/de/p/essen-trinken/10-gourmet-oktoberfest-7452288520972934231.html
LOCATION:Galfri GmbH
GEO:47.201389;8.203683
URL:https://eventfrog.at/de/p/essen-trinken/10-gourmet-oktoberfest-7452288520972934231.html
END:VEVENT
END:VCALENDAR