BEGIN:VCALENDAR
VERSION:2.0
PRODID:EVENTFROG//EVENT//ICAL
BEGIN:VEVENT
UID:20260423T034454Z-7452287492122749379@eventfrog.at
DTSTAMP:20260423T034454Z
DTSTART:20260425T200000Z
DTEND:20260426T030000Z
SUMMARY:RED BUNNY - ü16 - SA 25.04.26
DESCRIPTION:Im Klub Klain beginnt um 22 Uhr die Nacht mit heissen Reggaeton- und Latin-Beats zum Tanzen und Flirten.\n\nhttps://eventfrog.at/de/p/partys/latin-brasil/red-bunny-ue16-sa-25-04-26-7452287492122749379.html
LOCATION:Klub Klain
GEO:47.425054;9.372084
URL:https://eventfrog.at/de/p/partys/latin-brasil/red-bunny-ue16-sa-25-04-26-7452287492122749379.html
END:VEVENT
END:VCALENDAR