BEGIN:VCALENDAR
VERSION:2.0
PRODID:EVENTFROG//EVENT//ICAL
BEGIN:VEVENT
UID:20260422T204831Z-7452284430071127617@eventfrog.at
DTSTAMP:20260422T204831Z
DTSTART:20260603T183000Z
DTEND:20260603T213000Z
SUMMARY:Mamma Mia (ABBA) Mitsing-Party – Hits, DJ & 70s-Feeling!
DESCRIPTION:Erlebe eine unvergessliche Nacht mit grössten ABBA-Hits, Tanz und authentischem Mamma Mia Insel-Feeling.\n\nhttps://eventfrog.at/de/p/partys/70-s/mamma-mia-abba-mitsing-party-hits-dj-70s-feeling-7452284430071127617.html
LOCATION:Mach1 Club Nürnberg
GEO:49.446120;11.078370
URL:https://eventfrog.at/de/p/partys/70-s/mamma-mia-abba-mitsing-party-hits-dj-70s-feeling-7452284430071127617.html
END:VEVENT
END:VCALENDAR