BEGIN:VCALENDAR
VERSION:2.0
PRODID:EVENTFROG//EVENT//ICAL
BEGIN:VEVENT
UID:20260424T062232Z-7452280484892032588@eventfrog.at
DTSTAMP:20260424T062232Z
DTSTART:20260508T173000Z
DTEND:20260508T193000Z
SUMMARY:LOST IQ - Mediterraner Jazz, Folk und Rock
DESCRIPTION:Freitags von Mai bis Oktober gibt es in der Orangerie & Bonsaigarten Konzerte, Theater und Lesungen, Wir starten die Saison mit  der italienischen Formation LOST IQ. Mediterraner Jazz, Folk und Rock.\n\nhttps://eventfrog.at/de/p/konzerte/pop-rock/lost-iq-mediterraner-jazz-folk-und-rock-7452280484892032588.html
LOCATION:Orangerie & Bonsaigarten
GEO:47.359927;8.529391
URL:https://eventfrog.at/de/p/konzerte/pop-rock/lost-iq-mediterraner-jazz-folk-und-rock-7452280484892032588.html
END:VEVENT
END:VCALENDAR