BEGIN:VCALENDAR
VERSION:2.0
PRODID:EVENTFROG//EVENT//ICAL
BEGIN:VEVENT
UID:20260424T072501Z-7452278760366173336@eventfrog.at
DTSTAMP:20260424T072501Z
DTSTART:20260822T080000Z
DTEND:20260822T100000Z
SUMMARY:Einführung in Bitcoin - Seminar für Starter
DESCRIPTION:Workshop: Erlange Durchblick über Bitcoin, lerne kaufen, verkaufen und sich sicher bewegen im Bitcoin-Universum. Gratis Wallet und 10 CHF in Bitcoin. Ideal für Neulinge ab 10 Teilnehmern.\n\nhttps://eventfrog.at/de/p/kurse-seminare/wirtschaft/einfuehrung-in-bitcoin-seminar-fuer-starter-7452278760366173336.html
LOCATION:House of Satoshi
GEO:47.379944;8.527998
URL:https://eventfrog.at/de/p/kurse-seminare/wirtschaft/einfuehrung-in-bitcoin-seminar-fuer-starter-7452278760366173336.html
END:VEVENT
END:VCALENDAR