BEGIN:VCALENDAR
VERSION:2.0
PRODID:EVENTFROG//EVENT//ICAL
BEGIN:VEVENT
UID:20260424T072459Z-7452278745438644152@eventfrog.at
DTSTAMP:20260424T072459Z
DTSTART:20260613T180000Z
DTEND:20260613T193000Z
SUMMARY:Sternenlicht – Ensemble Phoenix Basel
DESCRIPTION:In «Sternenlicht» widmet sich das Ensemble Phoenix Basel in vier Werken von Eleni Ralli, Younghi Pagh-Paan, Klaus Lang und Isang Yun dem Zusammenspiel von Raum, Klang und künstlerischer Haltung.\n\nhttps://eventfrog.at/de/p/klassik-opern/klassik/sternenlicht-ensemble-phoenix-basel-7452278745438644152.html
LOCATION:Gare du Nord – Bahnhof für Neue Musik
GEO:47.567389;7.607131
URL:https://eventfrog.at/de/p/klassik-opern/klassik/sternenlicht-ensemble-phoenix-basel-7452278745438644152.html
END:VEVENT
END:VCALENDAR