BEGIN:VCALENDAR
VERSION:2.0
PRODID:EVENTFROG//EVENT//ICAL
BEGIN:VEVENT
UID:20260424T062242Z-7452277078978772551@eventfrog.at
DTSTAMP:20260424T062242Z
DTSTART:20260609T170000Z
DTEND:20260609T180000Z
SUMMARY:ATTACCA – Konzert 6: Zeitgenössische Interpretation Neue Mus
DESCRIPTION:Das Programm dieses Abends vereint Werke von Mirela Ivičević, Alessandro Perini, Julie Michael, Michael Gordon und Michael Beil und kombiniert Akustik mit Elektronik, Objekten und Performance.\n\nhttps://eventfrog.at/de/p/konzerte/weitere-musikrichtungen/attacca-konzert-6-zeitgenoessische-interpretation-neue-mus-7452277078978772551.html
LOCATION:Gare du Nord – Bahnhof für Neue Musik
GEO:47.567389;7.607131
URL:https://eventfrog.at/de/p/konzerte/weitere-musikrichtungen/attacca-konzert-6-zeitgenoessische-interpretation-neue-mus-7452277078978772551.html
END:VEVENT
END:VCALENDAR