BEGIN:VCALENDAR
VERSION:2.0
PRODID:EVENTFROG//EVENT//ICAL
BEGIN:VEVENT
UID:20260424T105139Z-7452276423790710338@eventfrog.at
DTSTAMP:20260424T105139Z
DTSTART:20260607T180000Z
DTEND:20260607T180000Z
SUMMARY:SOMMERBÜHNE: «DER MITTLER – KRÄUTERPFARRER JOHANN KÜNZLE»
DESCRIPTION:Das Stück zeigt Leben und Wirken von Kräuterpfarrer Johann Künzle und macht seine Pflanzenporträts sinnlich erfahrbar.\n\nhttps://eventfrog.at/de/p/theater-buehne/theater/sommerbuehne-der-mittler-kraeuterpfarrer-johann-kuenzle-7452276423790710338.html
LOCATION:Schloss Wartegg
GEO:47.478425;9.530131
URL:https://eventfrog.at/de/p/theater-buehne/theater/sommerbuehne-der-mittler-kraeuterpfarrer-johann-kuenzle-7452276423790710338.html
END:VEVENT
END:VCALENDAR