BEGIN:VCALENDAR
VERSION:2.0
PRODID:EVENTFROG//EVENT//ICAL
BEGIN:VEVENT
UID:20260424T090228Z-7452274253771086889@eventfrog.at
DTSTAMP:20260424T090228Z
DTSTART:20260515T080000Z
DTEND:20260516T030000Z
SUMMARY:FRIDAY BASH
DESCRIPTION:Fernandas Geburtstag wird am 15. Mai im Cave Club mit Flavah Aid, Dancehall, Shatta und Afrobeats ab 22 Uhr gefeiert.\n\nhttps://eventfrog.at/en/p/parties/dancehall/friday-bash-7452274253771086889.html
LOCATION:CAVE CLUB
GEO:47.377700;8.526365
URL:https://eventfrog.at/en/p/parties/dancehall/friday-bash-7452274253771086889.html
END:VEVENT
END:VCALENDAR