BEGIN:VCALENDAR
VERSION:2.0
PRODID:EVENTFROG//EVENT//ICAL
BEGIN:VEVENT
UID:20260424T072507Z-7452273435143622474@eventfrog.at
DTSTAMP:20260424T072507Z
DTSTART:20260502T120000Z
DTEND:20260502T143000Z
SUMMARY:Streethockey Classic League 1 Final - Spiel 2
DESCRIPTION:Die 2.Mannschaft des SHC Bettlach trifft im Final der Classic League 1 auf die Seetal Admirals.\nSpielbeginn 14.00 Uhr\nGedeckte Zuschauerplätze, Gratis Eintritt, Verpflegungsmöglichkeit.\n\nhttps://eventfrog.at/de/p/sport-fitness/sonstige-veranstaltungen/streethockey-classic-league-1-final-spiel-2-7452273435143622474.html
LOCATION:Strassenhockeyclub Bettlach
GEO:47.192570;7.418181
URL:https://eventfrog.at/de/p/sport-fitness/sonstige-veranstaltungen/streethockey-classic-league-1-final-spiel-2-7452273435143622474.html
END:VEVENT
END:VCALENDAR