BEGIN:VCALENDAR
VERSION:2.0
PRODID:EVENTFROG//EVENT//ICAL
BEGIN:VEVENT
UID:20260421T145956Z-7452273317707296883@eventfrog.at
DTSTAMP:20260421T145956Z
DTSTART:20260715T140000Z
SUMMARY:True Lies - Wahrheit(en) im Archiv?!
DESCRIPTION:True Lies - Wahrheit(en) im Archiv?! \nSymposium mit anschließender Finissage „Leben nach Microsoft“\n\nhttps://eventfrog.at/de/p/fuehrungen-vortraege/symposium/true-lies-wahrheit-en-im-archiv-7452273317707296883.html
LOCATION:Nordrhein-Westfälische Akademie der Wissenschaften und der Künste
GEO:51.209491;6.771480
URL:https://eventfrog.at/de/p/fuehrungen-vortraege/symposium/true-lies-wahrheit-en-im-archiv-7452273317707296883.html
END:VEVENT
END:VCALENDAR