BEGIN:VCALENDAR
VERSION:2.0
PRODID:EVENTFROG//EVENT//ICAL
BEGIN:VEVENT
UID:20260426T021203Z-7452269890294029241@eventfrog.at
DTSTAMP:20260426T021203Z
DTSTART:20261114T190000Z
SUMMARY:Ella Stern (AUT) im Musikcafe
DESCRIPTION:Ella Stern tritt am 14.11.2026 erstmals mit eigener Headline-Show in der Schweiz auf.\n\nhttps://eventfrog.at/de/p/konzerte/pop-rock/ella-stern-aut-im-musikcafe-7452269890294029241.html
LOCATION:XTRA
GEO:47.384167;8.533001
URL:https://eventfrog.at/de/p/konzerte/pop-rock/ella-stern-aut-im-musikcafe-7452269890294029241.html
END:VEVENT
END:VCALENDAR