BEGIN:VCALENDAR
VERSION:2.0
PRODID:EVENTFROG//EVENT//ICAL
BEGIN:VEVENT
UID:20260422T204835Z-7452267377675268376@eventfrog.at
DTSTAMP:20260422T204835Z
DTSTART:20270123T080000Z
DTEND:20270125T160000Z
SUMMARY:Alignment & HandsOn - 25h-Yoga-Weiterbildung
DESCRIPTION:Vom 8. bis 10. März lernen Yogalehrende ihre Fähigkeiten in Alignment und Hands-On-Techniken zu vertiefen.\n\nhttps://eventfrog.at/de/p/sport-fitness/yoga/alignment-handson-25h-yoga-weiterbildung-7452267377675268376.html
LOCATION:Yoga Labor Berlin
GEO:52.462984;13.509339
URL:https://eventfrog.at/de/p/sport-fitness/yoga/alignment-handson-25h-yoga-weiterbildung-7452267377675268376.html
END:VEVENT
END:VCALENDAR