BEGIN:VCALENDAR
VERSION:2.0
PRODID:EVENTFROG//EVENT//ICAL
BEGIN:VEVENT
UID:20260424T092336Z-7452264449069585120@eventfrog.at
DTSTAMP:20260424T092336Z
DTSTART:20260503T080000Z
DTEND:20260503T110000Z
SUMMARY:Fire Days 2026 ... Einzelticket Sonntagmorgen
DESCRIPTION:Sehnst du dich danach, vom Heiligen Geist neu entzündet zu werden und Erlebnisse zu machen, die dein Leben nachhaltig verändern??? Dann ist diese Konferenz für dich!\n\nhttps://eventfrog.at/de/p/kurse-seminare/glauben-religion/fire-days-2026-einzelticket-sonntagmorgen-7452264449069585120.html
LOCATION:Touch the Love Ministries
GEO:47.556075;8.879864
URL:https://eventfrog.at/de/p/kurse-seminare/glauben-religion/fire-days-2026-einzelticket-sonntagmorgen-7452264449069585120.html
END:VEVENT
END:VCALENDAR