BEGIN:VCALENDAR
VERSION:2.0
PRODID:EVENTFROG//EVENT//ICAL
BEGIN:VEVENT
UID:20260424T084043Z-7452263043034013739@eventfrog.at
DTSTAMP:20260424T084043Z
DTSTART:20260613T071500Z
DTEND:20260613T103000Z
SUMMARY:Velofahrkurs für Kinder
DESCRIPTION:Pro Velo vermittelt Kindern und Eltern in Lenzburg in geschütztem Raum und auf Quartierstrassen sicheres Velofahren.\n\nhttps://eventfrog.at/de/p/kinderveranstaltungen/familienveranstaltungen/velofahrkurs-fuer-kinder-7452263043034013739.html
LOCATION:Schulhaus Lenzhard
GEO:47.389596;8.165382
URL:https://eventfrog.at/de/p/kinderveranstaltungen/familienveranstaltungen/velofahrkurs-fuer-kinder-7452263043034013739.html
END:VEVENT
END:VCALENDAR