BEGIN:VCALENDAR
VERSION:2.0
PRODID:EVENTFROG//EVENT//ICAL
BEGIN:VEVENT
UID:20260421T161534Z-7452262072249757143@eventfrog.at
DTSTAMP:20260421T161534Z
DTSTART:20260528T111500Z
DTEND:20260528T120000Z
SUMMARY:Praxisnahe Vorstellung Live-Audiodeskription
DESCRIPTION:Lucas Schmelz, Laura Marmit und Ann-Marit Micheel präsentieren am 13:15 live eine praxisnahe Audiodeskription vor Ort.\n\nhttps://eventfrog.at/de/p/fuehrungen-vortraege/vortrag/praxisnahe-vorstellung-live-audiodeskription-7452262072249757143.html
LOCATION:Kap Europa, Frankfurt am Main, DE, auf der der Sport & Musik Bühne
GEO:50.109966;8.653981
URL:https://eventfrog.at/de/p/fuehrungen-vortraege/vortrag/praxisnahe-vorstellung-live-audiodeskription-7452262072249757143.html
END:VEVENT
END:VCALENDAR