BEGIN:VCALENDAR
VERSION:2.0
PRODID:EVENTFROG//EVENT//ICAL
BEGIN:VEVENT
UID:20260423T020551Z-7452261614558960559@eventfrog.at
DTSTAMP:20260423T020551Z
DTSTART:20260424T200000Z
DTEND:20260425T030000Z
SUMMARY:CLOUD 16 - ü16 - FR 24.04.26
DESCRIPTION:Im Klub Klain startet um 22 Uhr die Cloud 16 Party mit aktuellen Hits und Club Sounds für eine euphorische Nacht.\n\nhttps://eventfrog.at/de/p/partys/charts-open-format/cloud-16-ue16-fr-24-04-26-7452261614558960559.html
LOCATION:Klub Klain
GEO:47.425054;9.372084
URL:https://eventfrog.at/de/p/partys/charts-open-format/cloud-16-ue16-fr-24-04-26-7452261614558960559.html
END:VEVENT
END:VCALENDAR