BEGIN:VCALENDAR
VERSION:2.0
PRODID:EVENTFROG//EVENT//ICAL
BEGIN:VEVENT
UID:20260424T090218Z-7452261494211789229@eventfrog.at
DTSTAMP:20260424T090218Z
DTSTART:20260501T170000Z
DTEND:20260501T200000Z
SUMMARY:Fire Days 2026 ... Einzelticket Freitagabend
DESCRIPTION:Sehnst du dich danach, vom Heiligen Geist neu entzündet zu werden und Erlebnisse zu machen, die dein Leben nachhaltig verändern??? Dann ist diese Konferenz für dich!\n\nhttps://eventfrog.at/de/p/kurse-seminare/glauben-religion/fire-days-2026-einzelticket-freitagabend-7452261494211789229.html
LOCATION:Touch the Love Ministries
GEO:47.556075;8.879864
URL:https://eventfrog.at/de/p/kurse-seminare/glauben-religion/fire-days-2026-einzelticket-freitagabend-7452261494211789229.html
END:VEVENT
END:VCALENDAR