BEGIN:VCALENDAR
VERSION:2.0
PRODID:EVENTFROG//EVENT//ICAL
BEGIN:VEVENT
UID:20260422T145239Z-7452261067491666072@eventfrog.at
DTSTAMP:20260422T145239Z
DTSTART:20260501T080000Z
DTEND:20260501T210000Z
SUMMARY:Maifest auf der Burg
DESCRIPTION:Ab 10 Uhr gibt es Kulinarik auf Burg Siersburg, ab 15 Uhr spielt Eddie Gimler live. Genuss und Musik im historischen Ambiente.\n\nhttps://eventfrog.at/de/p/volksfeste/sonstige-feste/maifest-auf-der-burg-7452261067491666072.html
LOCATION:Burg Siersberg
GEO:49.364531;6.667370
URL:https://eventfrog.at/de/p/volksfeste/sonstige-feste/maifest-auf-der-burg-7452261067491666072.html
END:VEVENT
END:VCALENDAR