BEGIN:VCALENDAR
VERSION:2.0
PRODID:EVENTFROG//EVENT//ICAL
BEGIN:VEVENT
UID:20260424T105044Z-7452260796447328408@eventfrog.at
DTSTAMP:20260424T105044Z
DTSTART:20260602T160000Z
SUMMARY:Unter Druck - Ein Werkstattgespräch
DESCRIPTION:Unter Druck – Ein Werkstattgespräch über Gesellschaft, Bildung und das soziale Potential der Künste in Zeiten multipler Krisen mit einem Impulsvortag von Aladin El-Mafaalani\n\nhttps://eventfrog.at/de/p/fuehrungen-vortraege/vortrag/unter-druck-ein-werkstattgespraech-7452260796447328408.html
LOCATION:Nordrhein-Westfälische Akademie der Wissenschaften und der Künste
GEO:51.209491;6.771480
URL:https://eventfrog.at/de/p/fuehrungen-vortraege/vortrag/unter-druck-ein-werkstattgespraech-7452260796447328408.html
END:VEVENT
END:VCALENDAR