BEGIN:VCALENDAR
VERSION:2.0
PRODID:EVENTFROG//EVENT//ICAL
BEGIN:VEVENT
UID:20260424T072528Z-7452258940199398705@eventfrog.at
DTSTAMP:20260424T072528Z
DTSTART:20261213T103000Z
DTEND:20261213T113000Z
SUMMARY:Sonntagsführung
DESCRIPTION:Sonntagsführung durch die Ausstellung «HAP Grieshaber – Einschnitt  Ausdruck. Sammlung Würth»\n\nhttps://eventfrog.at/en/p/art-exhibitions/other-art-events/sonntagsfuehrung-7452258940199398705.html
LOCATION:Forum Würth Arlesheim
GEO:47.497009;7.607158
URL:https://eventfrog.at/en/p/art-exhibitions/other-art-events/sonntagsfuehrung-7452258940199398705.html
END:VEVENT
END:VCALENDAR