BEGIN:VCALENDAR
VERSION:2.0
PRODID:EVENTFROG//EVENT//ICAL
BEGIN:VEVENT
UID:20260423T021859Z-7452257281574490417@eventfrog.at
DTSTAMP:20260423T021859Z
DTSTART:20260424T161500Z
DTEND:20260424T180000Z
SUMMARY:Forum Ökumene - Charta Oecumenica
DESCRIPTION:M.A. Dipl. theol. Lea Schlenker, Bern, präsentiert die überarbeitete Charta Oecumenica zum 25-jährigen Jubiläum und die Zukunft der ökumenischen Einheit Europas.\n\nhttps://eventfrog.at/de/p/fuehrungen-vortraege/vortrag/forum-oekumene-charta-oecumenica-7452257281574490417.html
LOCATION:Universität Luzern
GEO:47.049393;8.312515
URL:https://eventfrog.at/de/p/fuehrungen-vortraege/vortrag/forum-oekumene-charta-oecumenica-7452257281574490417.html
END:VEVENT
END:VCALENDAR