BEGIN:VCALENDAR
VERSION:2.0
PRODID:EVENTFROG//EVENT//ICAL
BEGIN:VEVENT
UID:20260426T020129Z-7452250363929866987@eventfrog.at
DTSTAMP:20260426T020129Z
DTSTART:20260613T130000Z
DTEND:20260613T200000Z
SUMMARY:Rooftop Daydance
DESCRIPTION:️️ ROOFTOP DAYDANCE️\n\nFull Line up (A-Z): Mariat, Nils Wolf, Oveja, Whereisvero \n\nSonne, Palmen und fette Beats über den Dächern der Stadt – der Sommer zeigt sich von seiner besten Seite!\n\nhttps://eventfrog.at/de/p/partys/house-techno/rooftop-daydance-7452250363929866987.html
LOCATION:Rooftop Daydance
GEO:47.045585;8.307748
URL:https://eventfrog.at/de/p/partys/house-techno/rooftop-daydance-7452250363929866987.html
END:VEVENT
END:VCALENDAR