BEGIN:VCALENDAR
VERSION:2.0
PRODID:EVENTFROG//EVENT//ICAL
BEGIN:VEVENT
UID:20260421T133634Z-7452249476473848327@eventfrog.at
DTSTAMP:20260421T133634Z
DTSTART:20260503T120000Z
SUMMARY:Eine faszinierende Dinosaurier-Reise in Hollabrunn
DESCRIPTION:Interaktive Live-Show im Dinosaurier Theater vermittelt in 90 Minuten Fachwissen mit realistischen Modellen.\n\nhttps://eventfrog.at/de/p/fuehrungen-vortraege/symposium/eine-faszinierende-dinosaurier-reise-in-hollabrunn-7452249476473848327.html
LOCATION:Stadtsaal Hollabrunn
GEO:48.558259;16.074065
URL:https://eventfrog.at/de/p/fuehrungen-vortraege/symposium/eine-faszinierende-dinosaurier-reise-in-hollabrunn-7452249476473848327.html
END:VEVENT
END:VCALENDAR