BEGIN:VCALENDAR
VERSION:2.0
PRODID:EVENTFROG//EVENT//ICAL
BEGIN:VEVENT
UID:20260424T072537Z-7452244011081814747@eventfrog.at
DTSTAMP:20260424T072537Z
DTSTART:20260509T170000Z
DTEND:20260510T000000Z
SUMMARY:Vibe&Visual by ART&WINE
DESCRIPTION:Soirée à Genève avec expo, défilé, showcase live et DJ C.SUGAR pour célébrer la culture urbaine suisse le 9 mai.\n\nhttps://eventfrog.at/fr/p/art-expositions/vernissage/vibe-visual-by-art-wine-7452244011081814747.html
LOCATION:The Foundry - Restaurant, Bar and Terrace
GEO:46.210823;6.149997
URL:https://eventfrog.at/fr/p/art-expositions/vernissage/vibe-visual-by-art-wine-7452244011081814747.html
END:VEVENT
END:VCALENDAR