BEGIN:VCALENDAR
VERSION:2.0
PRODID:EVENTFROG//EVENT//ICAL
BEGIN:VEVENT
UID:20260424T072503Z-7452237980524085561@eventfrog.at
DTSTAMP:20260424T072503Z
DTSTART:20260908T180000Z
DTEND:20260908T200000Z
SUMMARY:Laura Evans – Out of the Dark Tour 2026
DESCRIPTION:Laura Evans verbindet Blues, Roots und modernen Soul in ihrem neuen Album «Out of the Dark» mit kraftvollen, gefühlvollen Songs.\n\nhttps://eventfrog.at/de/p/konzerte/jazz-blues/laura-evans-out-of-the-dark-tour-2026-7452237980524085561.html
LOCATION:Streaminghall.ch
GEO:46.857110;9.507778
URL:https://eventfrog.at/de/p/konzerte/jazz-blues/laura-evans-out-of-the-dark-tour-2026-7452237980524085561.html
END:VEVENT
END:VCALENDAR