BEGIN:VCALENDAR
VERSION:2.0
PRODID:EVENTFROG//EVENT//ICAL
BEGIN:VEVENT
UID:20260424T121136Z-7452235719341288019@eventfrog.at
DTSTAMP:20260424T121136Z
DTSTART:20261015T080000Z
DTEND:20261015T093000Z
SUMMARY:Open Lab Day Lernlabor Cybersicherheit – Faktor Mensch​​
DESCRIPTION:​Unternehmenssicherheit beginnt beim Menschen.\n\nhttps://eventfrog.at/de/p/wissenschaft-und-technik/open-lab-day-lernlabor-cybersicherheit-faktor-mensch-7452235719341288019.html
LOCATION:Open Lab Day - Erlebniswelt
GEO:49.150139;9.216152
URL:https://eventfrog.at/de/p/wissenschaft-und-technik/open-lab-day-lernlabor-cybersicherheit-faktor-mensch-7452235719341288019.html
END:VEVENT
END:VCALENDAR