BEGIN:VCALENDAR
VERSION:2.0
PRODID:EVENTFROG//EVENT//ICAL
BEGIN:VEVENT
UID:20260423T033921Z-7452206471591233878@eventfrog.at
DTSTAMP:20260423T033921Z
DTSTART:20260426T120000Z
DTEND:20260426T150000Z
SUMMARY:Sonntigs-Jass & Spiele
DESCRIPTION:Ein geselliger Nachmittag für die ganze Familie mit spannenden Jassrunden. Für Spielbegeisterte aller Generationen gibt es eine vielfältige Auswahl an Gesellschaftsspielen. Auch ein Beizli vorhanden.\n\nhttps://eventfrog.at/de/p/freizeit-ausfluege/gruppen-spiele/sonntigs-jass-spiele-7452206471591233878.html
LOCATION:Alte Kirche Würenlos
GEO:47.442511;8.364306
URL:https://eventfrog.at/de/p/freizeit-ausfluege/gruppen-spiele/sonntigs-jass-spiele-7452206471591233878.html
END:VEVENT
END:VCALENDAR