BEGIN:VCALENDAR
VERSION:2.0
PRODID:EVENTFROG//EVENT//ICAL
BEGIN:VEVENT
UID:20260423T032747Z-7452179475096199046@eventfrog.at
DTSTAMP:20260423T032747Z
DTSTART:20260425T180000Z
DTEND:20260425T200000Z
SUMMARY:Beaumont Klaviertrio
DESCRIPTION:Bedřich Smetana: Klaviertrio g-moll op. 15 Diego Schissi (*1969): Nene Vítězslav Novák:Trio quasi una ballata d-moll op. 27\n\nhttps://eventfrog.at/de/p/klassik-opern/klassik/beaumont-klaviertrio-7452179475096199046.html
LOCATION:Oberdorfstrasse 6
GEO:47.021215;7.448592
URL:https://eventfrog.at/de/p/klassik-opern/klassik/beaumont-klaviertrio-7452179475096199046.html
END:VEVENT
END:VCALENDAR