BEGIN:VCALENDAR
VERSION:2.0
PRODID:EVENTFROG//EVENT//ICAL
BEGIN:VEVENT
UID:20260424T072444Z-7452148678830102625@eventfrog.at
DTSTAMP:20260424T072444Z
DTSTART:20260523T210000Z
DTEND:20260524T030000Z
SUMMARY:CORITO SALSERO ZURICH (By Noche Colombiana)
DESCRIPTION:Corito Salsero und Special Guest laden zu einer leidenschaftlichen Salsa-Nacht mit Black & White Dresscode in Zürich.\n\nhttps://eventfrog.at/de/p/partys/latin-brasil/corito-salsero-zurich-by-noche-colombiana-7452148678830102625.html
LOCATION:Talstrasse 25
GEO:47.368599;8.538153
URL:https://eventfrog.at/de/p/partys/latin-brasil/corito-salsero-zurich-by-noche-colombiana-7452148678830102625.html
END:VEVENT
END:VCALENDAR