BEGIN:VCALENDAR
VERSION:2.0
PRODID:EVENTFROG//EVENT//ICAL
BEGIN:VEVENT
UID:20260424T101431Z-7452115921018043397@eventfrog.at
DTSTAMP:20260424T101431Z
DTSTART:20260501T220000Z
DTEND:20260601T215900Z
SUMMARY:Das Beste
DESCRIPTION:Das Beste\n\nhttps://eventfrog.at/de/p/kunst-ausstellungen/das-beste-7452115921018043397.html
LOCATION:Stern-Apotheke
GEO:47.424604;9.379407
URL:https://eventfrog.at/de/p/kunst-ausstellungen/das-beste-7452115921018043397.html
END:VEVENT
END:VCALENDAR