BEGIN:VCALENDAR
VERSION:2.0
PRODID:EVENTFROG//EVENT//ICAL
BEGIN:VEVENT
UID:20260424T085016Z-7452115919436790773@eventfrog.at
DTSTAMP:20260424T085016Z
DTSTART:20260504T071500Z
SUMMARY:Reim und Spiel
DESCRIPTION:Mit Leseanimatorin Marianne Wäspe.\n\nhttps://eventfrog.at/de/p/diverses/reim-und-spiel-7452115919436790773.html
LOCATION:Stadtbibliothek
GEO:47.415188;9.252704
URL:https://eventfrog.at/de/p/diverses/reim-und-spiel-7452115919436790773.html
END:VEVENT
END:VCALENDAR