BEGIN:VCALENDAR
VERSION:2.0
PRODID:EVENTFROG//EVENT//ICAL
BEGIN:VEVENT
UID:20260424T062232Z-7452115918719564779@eventfrog.at
DTSTAMP:20260424T062232Z
DTSTART:20260501T220000Z
DTEND:20260628T215900Z
SUMMARY:Guido von Stürler: Zwischen den Systemen – Kunst im vernetzt
DESCRIPTION:Guido von Stürler: Zwischen den Systemen - Kunst im vernetzten Jetzt\n\nhttps://eventfrog.at/de/p/kunst-ausstellungen/guido-von-stuerler-zwischen-den-systemen-kunst-im-vernetzt-7452115918719564779.html
LOCATION:Kunsthalle Wil
GEO:47.467299;9.050845
URL:https://eventfrog.at/de/p/kunst-ausstellungen/guido-von-stuerler-zwischen-den-systemen-kunst-im-vernetzt-7452115918719564779.html
END:VEVENT
END:VCALENDAR