BEGIN:VCALENDAR
VERSION:2.0
PRODID:EVENTFROG//EVENT//ICAL
BEGIN:VEVENT
UID:20260424T095814Z-7452114387790230194@eventfrog.at
DTSTAMP:20260424T095814Z
DTSTART:20260508T160000Z
SUMMARY:Happy Birthday, Henry
DESCRIPTION:Dunant-Kenner:innen präsentieren persönliche Geschichten.\n\nhttps://eventfrog.at/de/p/wissenschaft-und-technik/happy-birthday-henry-7452114387790230194.html
LOCATION:Museum Henry Dunant
GEO:47.443376;9.531407
URL:https://eventfrog.at/de/p/wissenschaft-und-technik/happy-birthday-henry-7452114387790230194.html
END:VEVENT
END:VCALENDAR