BEGIN:VCALENDAR
VERSION:2.0
PRODID:EVENTFROG//EVENT//ICAL
BEGIN:VEVENT
UID:20260423T005451Z-7452111681583343365@eventfrog.at
DTSTAMP:20260423T005451Z
DTSTART:20260424T160000Z
DTEND:20260424T210000Z
SUMMARY:Electric House Sessions - Afterwork Event
DESCRIPTION:Diesen Freitag, 24.04.2026, verwandeln wir das Kraftwerk in den ultimativen House-Hub! Vergesst den Standard-Afterwork – wir starten offiziell die Electric House Sessions!\n\nhttps://eventfrog.at/de/p/partys/house-techno/electric-house-sessions-afterwork-event-7452111681583343365.html
LOCATION:Kraftwerk Selnau
GEO:47.372528;8.532219
URL:https://eventfrog.at/de/p/partys/house-techno/electric-house-sessions-afterwork-event-7452111681583343365.html
END:VEVENT
END:VCALENDAR