BEGIN:VCALENDAR
VERSION:2.0
PRODID:EVENTFROG//EVENT//ICAL
BEGIN:VEVENT
UID:20260421T174133Z-7452110860342800287@eventfrog.at
DTSTAMP:20260421T174133Z
DTSTART:20260502T093000Z
SUMMARY:Führung
DESCRIPTION:Die Geschichte der Firma Dornier.\n\nhttps://eventfrog.at/de/p/wissenschaft-und-technik/fuehrung-7452110860342800287.html
LOCATION:Dornier Museum
GEO:47.670555;9.517771
URL:https://eventfrog.at/de/p/wissenschaft-und-technik/fuehrung-7452110860342800287.html
END:VEVENT
END:VCALENDAR