BEGIN:VCALENDAR
VERSION:2.0
PRODID:EVENTFROG//EVENT//ICAL
BEGIN:VEVENT
UID:20260424T092346Z-7452110735763575427@eventfrog.at
DTSTAMP:20260424T092346Z
DTSTART:20260528T180000Z
SUMMARY:Al Capone's Karaokenight
DESCRIPTION:Singen, Tanzen und Craft Beer.\n\nhttps://eventfrog.at/de/p/partys/al-capone-s-karaokenight-7452110735763575427.html
LOCATION:Al Capone Steakhouse
GEO:47.426588;9.376660
URL:https://eventfrog.at/de/p/partys/al-capone-s-karaokenight-7452110735763575427.html
END:VEVENT
END:VCALENDAR