BEGIN:VCALENDAR
VERSION:2.0
PRODID:EVENTFROG//EVENT//ICAL
BEGIN:VEVENT
UID:20260424T064110Z-7452110733809029477@eventfrog.at
DTSTAMP:20260424T064110Z
DTSTART:20260516T180000Z
SUMMARY:Jupiter und der Tanz der galileischen Monde
DESCRIPTION:Sternwartenabend.\n\nhttps://eventfrog.at/de/p/wissenschaft-und-technik/jupiter-und-der-tanz-der-galileischen-monde-7452110733809029477.html
LOCATION:Planetarium | Bodensee
GEO:47.641511;9.159443
URL:https://eventfrog.at/de/p/wissenschaft-und-technik/jupiter-und-der-tanz-der-galileischen-monde-7452110733809029477.html
END:VEVENT
END:VCALENDAR