BEGIN:VCALENDAR
VERSION:2.0
PRODID:EVENTFROG//EVENT//ICAL
BEGIN:VEVENT
UID:20260424T072505Z-7452110680197492158@eventfrog.at
DTSTAMP:20260424T072505Z
DTSTART:20260513T150000Z
SUMMARY:Reise der Erde – Weg der Sonne
DESCRIPTION:Wir leben auf einem komfortablen Raumfahrzeug - der Erde.\n\nhttps://eventfrog.at/de/p/diverses/reise-der-erde-weg-der-sonne-7452110680197492158.html
LOCATION:Planetarium | Bodensee
GEO:47.641511;9.159443
URL:https://eventfrog.at/de/p/diverses/reise-der-erde-weg-der-sonne-7452110680197492158.html
END:VEVENT
END:VCALENDAR