BEGIN:VCALENDAR
VERSION:2.0
PRODID:EVENTFROG//EVENT//ICAL
BEGIN:VEVENT
UID:20260424T072643Z-7452094769444960674@eventfrog.at
DTSTAMP:20260424T072643Z
DTSTART:20260428T101500Z
DTEND:20260428T111500Z
SUMMARY:FREE Masterclass: Back to Her  (Spring Body Reset)
DESCRIPTION:Free Masterclass teaches women 40+ how to understand their bodies for lasting weight loss, balanced eating, and renewed energy.\n\nhttps://eventfrog.at/en/p/sport-fitness/yoga/free-masterclass-back-to-her-spring-body-reset-7452094769444960674.html
LOCATION:Online-Event
URL:https://eventfrog.at/en/p/sport-fitness/yoga/free-masterclass-back-to-her-spring-body-reset-7452094769444960674.html
END:VEVENT
END:VCALENDAR