BEGIN:VCALENDAR
VERSION:2.0
PRODID:EVENTFROG//EVENT//ICAL
BEGIN:VEVENT
UID:20260424T071158Z-7452093311769176935@eventfrog.at
DTSTAMP:20260424T071158Z
DTSTART:20270416T150000Z
DTEND:20270416T220000Z
SUMMARY:Industrienacht Regio Basel 2027
DESCRIPTION:Mit einem Ticket rund 50 Firmen entdecken und 200+ Abenteuer erleben. Die Industrienacht öffnet in einem 7-stündigen Nachtgang neue Perspektiven auf die faszinierenden Arbeitswelten der Regio Basel.\n\nhttps://eventfrog.at/de/p/diverses/industrienacht-regio-basel-2027-7452093311769176935.html
LOCATION:Basel
GEO:47.563658;7.600390
URL:https://eventfrog.at/de/p/diverses/industrienacht-regio-basel-2027-7452093311769176935.html
END:VEVENT
END:VCALENDAR