BEGIN:VCALENDAR
VERSION:2.0
PRODID:EVENTFROG//EVENT//ICAL
BEGIN:VEVENT
UID:20260423T032746Z-7452092469456420019@eventfrog.at
DTSTAMP:20260423T032746Z
DTSTART:20260426T140000Z
DTEND:20260426T200000Z
SUMMARY:SUNDAYZ Day Party
DESCRIPTION:SUNDAYZ Day Party mit HipHop, R&B, Afrobeats und mehr auf SAMIGO Rooftop in Zürich. Ab 21 Jahren. Reservierung für Lounge/Tisch möglich.\n\n\nhttps://eventfrog.at/de/p/partys/hip-hop-rap/sundayz-day-party-7452092469456420019.html
LOCATION:Samigo Amusement
GEO:47.358884;8.536944
URL:https://eventfrog.at/de/p/partys/hip-hop-rap/sundayz-day-party-7452092469456420019.html
END:VEVENT
END:VCALENDAR