BEGIN:VCALENDAR
VERSION:2.0
PRODID:EVENTFROG//EVENT//ICAL
BEGIN:VEVENT
UID:20260424T105045Z-7452091291909807727@eventfrog.at
DTSTAMP:20260424T105045Z
DTSTART:20260517T073000Z
DTEND:20260517T130000Z
SUMMARY:Museumstag Dorfmuseum Lostorf
DESCRIPTION:Museumstag mit Workshop 'Bauen, bemalen, bepflanzen' und Märchenstube mit Jenny Seeberger. \nKunstausstellung geöffnet.\n\nhttps://eventfrog.at/de/p/kinderveranstaltungen/familienveranstaltungen/museumstag-dorfmuseum-lostorf-7452091291909807727.html
LOCATION:Dorfmuseum 4654 Lostorf
GEO:47.388320;7.942323
URL:https://eventfrog.at/de/p/kinderveranstaltungen/familienveranstaltungen/museumstag-dorfmuseum-lostorf-7452091291909807727.html
END:VEVENT
END:VCALENDAR